BEGIN:VCALENDAR
VERSION:2.0
PRODID:-//Cafe Kunst &amp; Krümel - ECPv6.10.2//NONSGML v1.0//EN
CALSCALE:GREGORIAN
METHOD:PUBLISH
X-ORIGINAL-URL:https://kunst-und-kruemel.com
X-WR-CALDESC:Veranstaltungen für Cafe Kunst &amp; Krümel
REFRESH-INTERVAL;VALUE=DURATION:PT1H
X-Robots-Tag:noindex
X-PUBLISHED-TTL:PT1H
BEGIN:VTIMEZONE
TZID:Europe/Berlin
BEGIN:DAYLIGHT
TZOFFSETFROM:+0100
TZOFFSETTO:+0200
TZNAME:CEST
DTSTART:20230326T010000
END:DAYLIGHT
BEGIN:STANDARD
TZOFFSETFROM:+0200
TZOFFSETTO:+0100
TZNAME:CET
DTSTART:20231029T010000
END:STANDARD
BEGIN:DAYLIGHT
TZOFFSETFROM:+0100
TZOFFSETTO:+0200
TZNAME:CEST
DTSTART:20240331T010000
END:DAYLIGHT
BEGIN:STANDARD
TZOFFSETFROM:+0200
TZOFFSETTO:+0100
TZNAME:CET
DTSTART:20241027T010000
END:STANDARD
END:VTIMEZONE
BEGIN:VEVENT
DTSTART;TZID=Europe/Berlin:20231130T080000
DTEND;TZID=Europe/Berlin:20240331T170000
DTSTAMP:20260425T045804
CREATED:20231215T170521Z
LAST-MODIFIED:20231215T170522Z
UID:1279-1701331200-1711904400@kunst-und-kruemel.com
SUMMARY:Ausstellung: FILZPOMELO
DESCRIPTION:Filzarbeiten
URL:https://kunst-und-kruemel.com/event/ausstellung-filzpomelo-2/
LOCATION:Cafe Kunst & Krümel\, Hönower Str. 65\, Berlin\, 12623\, Deutschland
CATEGORIES:Ausstellung
ORGANIZER;CN="Cafe Kunst & Kr%C3%BCmel":MAILTO:info@kunst-und-kruemel.com
END:VEVENT
BEGIN:VEVENT
DTSTART;TZID=Europe/Berlin:20231130T120000
DTEND;TZID=Europe/Berlin:20240229T170000
DTSTAMP:20260425T045804
CREATED:20231215T170626Z
LAST-MODIFIED:20231215T170627Z
UID:1281-1701345600-1709226000@kunst-und-kruemel.com
SUMMARY:Ausstellung: PAPIERKULT
DESCRIPTION:Puzzle\, lebende Karten und mehr \n\n\n\nPapier ist Kult (ur)!  Wir haben seit ein paar Wochen wundervoll gestaltete Lesemagnete\, verrückte Puzzle in verschiedenen Größen und zauberhafte „lebende“ Karten von Papierkult Berlin bei uns zu Gast.
URL:https://kunst-und-kruemel.com/event/ausstellung-papierkult/
LOCATION:Cafe Kunst & Krümel\, Hönower Str. 65\, Berlin\, 12623\, Deutschland
CATEGORIES:Ausstellung
ATTACH;FMTTYPE=image/jpeg:https://kunst-und-kruemel.com/wp-content/uploads/2023/12/17025961069616563101119037183175.jpg
ORGANIZER;CN="Cafe Kunst & Kr%C3%BCmel":MAILTO:info@kunst-und-kruemel.com
END:VEVENT
BEGIN:VEVENT
DTSTART;TZID=Europe/Berlin:20240101T120000
DTEND;TZID=Europe/Berlin:20240229T170000
DTSTAMP:20260425T045804
CREATED:20231215T170348Z
LAST-MODIFIED:20231215T170349Z
UID:1275-1704110400-1709226000@kunst-und-kruemel.com
SUMMARY:Ausstellung: STEFAN LORENZ
DESCRIPTION:Die Ausstellung zeigt eine Auswahl an Arbeiten aus der Naturfotografie (Blüten\, Landschaften)\, bei der Unschärfen bewusst als stilistisches Element zur Gestaltung eingesetzt wurden. Dabei wurde entweder mit Einzel-Langzeitbelichtungen und der ICM-Technik („intentional camera movement“) gearbeitet oder mit dem Einsatz alter\, analoger Objektive im Makrobereich außerhalb der Grenzen ihrer Fokussierbereiche. Am 07.01.2024 findet eine Vernissage zur Ausstellung statt.
URL:https://kunst-und-kruemel.com/event/ausstellung-stefan-lorenz/
LOCATION:Cafe Kunst & Krümel\, Hönower Str. 65\, Berlin\, 12623\, Deutschland
CATEGORIES:Ausstellung
ORGANIZER;CN="Cafe Kunst & Kr%C3%BCmel":MAILTO:info@kunst-und-kruemel.com
END:VEVENT
BEGIN:VEVENT
DTSTART;TZID=Europe/Berlin:20240210T190000
DTEND;TZID=Europe/Berlin:20240210T220000
DTSTAMP:20260425T045804
CREATED:20231215T165726Z
LAST-MODIFIED:20240112T153250Z
UID:1261-1707591600-1707602400@kunst-und-kruemel.com
SUMMARY:Live: STEPHAN WEIß & BURKHARDT BRAUER - "Andere Berliner Lieder"
DESCRIPTION:Stephan Weiß aus Berlin\, der heimliche Hauptmann aus Köpenick\,Liedermacher und Kabarettist aus Berlin\, spielt „Andere BerlinerLieder“ mal laut ironisch\, mal nachdenklich romantisch\, manchmalzum Mitsummen und Mitsingen\, meistens wie „am Lagerfeuer“.Begleitet wird er von Burkhardt Brauer/ Percussion aus dem BerlinerPrenzlauer Berg\, der in seinem ersten Leben Techniker u.a. beiMaischberger\, Anne Will\, Verstehen Sie Spaß? oder Hart aber fair ist\,dazu von der Westerngitarre und Bluesmundharmonika oder beibesonders guter Laune auch mal von einer Tröte\, Triangel oderGeige….begleitet
URL:https://kunst-und-kruemel.com/event/live-stephan-weiss-burkhardt-brauer-andere-berliner-lieder/
LOCATION:Cafe Kunst & Krümel\, Hönower Str. 65\, Berlin\, 12623\, Deutschland
CATEGORIES:Konzert
ATTACH;FMTTYPE=image/jpeg:https://kunst-und-kruemel.com/wp-content/uploads/2023/12/IMG-20230628-WA0001.jpg
ORGANIZER;CN="Cafe Kunst & Kr%C3%BCmel":MAILTO:info@kunst-und-kruemel.com
END:VEVENT
BEGIN:VEVENT
DTSTART;TZID=Europe/Berlin:20240217T160000
DTEND;TZID=Europe/Berlin:20240217T200000
DTSTAMP:20260425T045804
CREATED:20231215T165835Z
LAST-MODIFIED:20240130T144343Z
UID:1264-1708185600-1708200000@kunst-und-kruemel.com
SUMMARY:Workshop: FILZPOMELO
DESCRIPTION:Der nächste Winter kommt bestimmt! …und da wollen wir gut vorbereitet sein. Mit Wolle\, Anleitung und viel Spaß filzen wir uns in 3-4 Stunden warme Pulswärmer\, ganz individuell – so wie jeder von uns selbst ja auch ist! Oder soll es doch lieber eine Blütenkette für den kommenden Frühling werden? Die Künstlerin hat vor einigen Jahren das Filzen für sich entdeckt und stetig weiter entwickelt. Im Kunst&Krümel kann man immer wieder Werke von ihr bewundern und auch käuflich erwerben. Zum wiederholten Male bietet sie nun einen Workshop an\, die Plätze sind begrenzt\, bitte meldet Euch rechtzeitig an. Kosten pro Person 42\,50€. Bitte bringt 2 Handtücher mit!
URL:https://kunst-und-kruemel.com/event/workshop-filzpomelo-2/
LOCATION:Cafe Kunst & Krümel\, Hönower Str. 65\, Berlin\, 12623\, Deutschland
CATEGORIES:Workshop
ATTACH;FMTTYPE=image/jpeg:https://kunst-und-kruemel.com/wp-content/uploads/2023/12/IMG-20230718-WA0004.jpg
ORGANIZER;CN="Cafe Kunst & Kr%C3%BCmel":MAILTO:info@kunst-und-kruemel.com
END:VEVENT
BEGIN:VEVENT
DTSTART;TZID=Europe/Berlin:20240224T190000
DTEND;TZID=Europe/Berlin:20240224T220000
DTSTAMP:20260425T045804
CREATED:20231215T165940Z
LAST-MODIFIED:20231215T165941Z
UID:1267-1708801200-1708812000@kunst-und-kruemel.com
SUMMARY:Kabarett: GERALD WOLF - "Na det war wieda `n Jahr!“
DESCRIPTION:Wir hatten keine Löwin\, nirgends\, Habeck heizte ein\, während der Deutschlandpakt kam und Don Leone aufräumte. Das abgelaufene Jahr gab genug Futter für die ganz besondere Sicht eines genialen Kabarettisten! Der Satirische Jahresrückblick von Gerald Wolf analysiert und rüttelt durch\, mit seinem herrlich feinsinnigen Humor legt der Protagonist die Possen aus Alltag und Politik noch einmal zu unseren Füßen. Obendrauf bekommen wir auch noch per Parodie Besuch von Karl Lauterbach\, Friedrich Merz u.a.  Wir werden viel zu lachen haben…  
URL:https://kunst-und-kruemel.com/event/kabarett-gerald-wolf-na-det-war-wieda-n-jahr/
LOCATION:Cafe Kunst & Krümel\, Hönower Str. 65\, Berlin\, 12623\, Deutschland
CATEGORIES:Kabarett
ATTACH;FMTTYPE=image/jpeg:https://kunst-und-kruemel.com/wp-content/uploads/2023/12/GeraldWolf-sJR2023.jpg
ORGANIZER;CN="Cafe Kunst & Kr%C3%BCmel":MAILTO:info@kunst-und-kruemel.com
END:VEVENT
END:VCALENDAR