BEGIN:VCALENDAR
VERSION:2.0
PRODID:-//Cafe Kunst &amp; Krümel - ECPv6.10.2//NONSGML v1.0//EN
CALSCALE:GREGORIAN
METHOD:PUBLISH
X-WR-CALNAME:Cafe Kunst &amp; Krümel
X-ORIGINAL-URL:https://kunst-und-kruemel.com
X-WR-CALDESC:Veranstaltungen für Cafe Kunst &amp; Krümel
REFRESH-INTERVAL;VALUE=DURATION:PT1H
X-Robots-Tag:noindex
X-PUBLISHED-TTL:PT1H
BEGIN:VTIMEZONE
TZID:Europe/Berlin
BEGIN:DAYLIGHT
TZOFFSETFROM:+0100
TZOFFSETTO:+0200
TZNAME:CEST
DTSTART:20230326T010000
END:DAYLIGHT
BEGIN:STANDARD
TZOFFSETFROM:+0200
TZOFFSETTO:+0100
TZNAME:CET
DTSTART:20231029T010000
END:STANDARD
BEGIN:DAYLIGHT
TZOFFSETFROM:+0100
TZOFFSETTO:+0200
TZNAME:CEST
DTSTART:20240331T010000
END:DAYLIGHT
BEGIN:STANDARD
TZOFFSETFROM:+0200
TZOFFSETTO:+0100
TZNAME:CET
DTSTART:20241027T010000
END:STANDARD
END:VTIMEZONE
BEGIN:VEVENT
DTSTART;TZID=Europe/Berlin:20231130T080000
DTEND;TZID=Europe/Berlin:20240331T170000
DTSTAMP:20260425T024322
CREATED:20231215T170521Z
LAST-MODIFIED:20231215T170522Z
UID:1279-1701331200-1711904400@kunst-und-kruemel.com
SUMMARY:Ausstellung: FILZPOMELO
DESCRIPTION:Filzarbeiten
URL:https://kunst-und-kruemel.com/event/ausstellung-filzpomelo-2/
LOCATION:Cafe Kunst & Krümel\, Hönower Str. 65\, Berlin\, 12623\, Deutschland
CATEGORIES:Ausstellung
ORGANIZER;CN="Cafe Kunst & Kr%C3%BCmel":MAILTO:info@kunst-und-kruemel.com
END:VEVENT
BEGIN:VEVENT
DTSTART;TZID=Europe/Berlin:20240301T120000
DTEND;TZID=Europe/Berlin:20240430T170000
DTSTAMP:20260425T024322
CREATED:20231215T170435Z
LAST-MODIFIED:20240312T145905Z
UID:1277-1709294400-1714496400@kunst-und-kruemel.com
SUMMARY:Ausstellung: PETER ISER & ALEXANDER KÖNIG
DESCRIPTION:Alexander König : Eiskunstläufer\, mehrere Siege im Einzel- und im Paarlauf\, Eiskunstlauftrainer\, jetzt Bildungsreferent\, Gesundheits- und Fitnesstrainer und freiberuflicher Berater in Sachen Eiskunstlauf… da braucht es einen ausgleichenden Gegenpart! Den hat der 1966 in Sachsen geborene Alexander König in der Malerei gefunden. Seit 1980 malt er\, inspiriert durch den kanadischen Eiskunstläufer Toller Cranston\, im surrealistischen Stil. Seine Werkzeuge sind Ölfarben\, Faserstifte\, Leinwände\, Papier und Pappe… Der ersten Ausstellung in der Berliner Künstlerkneipe „Zur Jette“ folgten weitere\, in diesem Jahr sind seine wundervollen Bilder nun im Kunst & Krümel zu betrachten. \n\n\n\nPeter Iser: Seit Kindheitstagen malt er mit großer Hingabe… Menschen\, Tiere\, Pflanzen – die Motive\, die Größen\, die Stile können unterschiedlicher nicht sein. Die bei uns ausgestellten Bilder stellen nur eine kleine Auswahl seiner Werke dar\, bieten aber dennoch einen kleinen Einblick in das kreative Schaffen eines leidenschaftlichen Künstlers.
URL:https://kunst-und-kruemel.com/event/ausstellung-peter-iser-alexander-koenig/
LOCATION:Cafe Kunst & Krümel\, Hönower Str. 65\, Berlin\, 12623\, Deutschland
CATEGORIES:Ausstellung
ATTACH;FMTTYPE=image/jpeg:https://kunst-und-kruemel.com/wp-content/uploads/2024/03/iser_koenig.jpg
ORGANIZER;CN="Cafe Kunst & Kr%C3%BCmel":MAILTO:info@kunst-und-kruemel.com
END:VEVENT
BEGIN:VEVENT
DTSTART;TZID=Europe/Berlin:20240301T190000
DTEND;TZID=Europe/Berlin:20240301T220000
DTSTAMP:20260425T024322
CREATED:20240130T144629Z
LAST-MODIFIED:20240130T144712Z
UID:1316-1709319600-1709330400@kunst-und-kruemel.com
SUMMARY:Lesung: BLANCHE KOMMERELL
DESCRIPTION:Wir freuen uns sehr\, dass die wunderbare Blanche Kommerell uns wieder besucht… Diesmal bringt sie ihre Autobiografie mit und liest aus „Ich bin ein Kind der Liebe“ Kindergeschichten aus der Ruinenzeit. Achtung\, ausnahmsweise ist dieser Veranstaltungstag im Krümel mal ein Freitag! Einige wenige Plätze sind noch zu haben…
URL:https://kunst-und-kruemel.com/event/lesung-blanche-kommerell/
LOCATION:Cafe Kunst & Krümel\, Hönower Str. 65\, Berlin\, 12623\, Deutschland
CATEGORIES:Lesung
ATTACH;FMTTYPE=image/jpeg:https://kunst-und-kruemel.com/wp-content/uploads/2024/01/20240130_145830-scaled.jpg
ORGANIZER;CN="Cafe Kunst & Kr%C3%BCmel":MAILTO:info@kunst-und-kruemel.com
END:VEVENT
BEGIN:VEVENT
DTSTART;TZID=Europe/Berlin:20240309T190000
DTEND;TZID=Europe/Berlin:20240309T220000
DTSTAMP:20260425T024322
CREATED:20231215T170123Z
LAST-MODIFIED:20231215T170124Z
UID:1270-1710010800-1710021600@kunst-und-kruemel.com
SUMMARY:Lesung: SPIDER & AHNE - "...lesen\, singen & krümeln Pingpong"
DESCRIPTION:Infos folgen…
URL:https://kunst-und-kruemel.com/event/lesung-spider-ahne-lesen-singen-kruemeln-pingpong/
LOCATION:Cafe Kunst & Krümel\, Hönower Str. 65\, Berlin\, 12623\, Deutschland
CATEGORIES:Lesung
ATTACH;FMTTYPE=image/png:https://kunst-und-kruemel.com/wp-content/uploads/2022/02/wiedereroeffnung2.png
ORGANIZER;CN="Cafe Kunst & Kr%C3%BCmel":MAILTO:info@kunst-und-kruemel.com
END:VEVENT
BEGIN:VEVENT
DTSTART;TZID=Europe/Berlin:20240323T190000
DTEND;TZID=Europe/Berlin:20240323T220000
DTSTAMP:20260425T024322
CREATED:20231215T170236Z
LAST-MODIFIED:20231215T170237Z
UID:1272-1711220400-1711231200@kunst-und-kruemel.com
SUMMARY:Live: BORNZERO
DESCRIPTION:Klickt man auf seiner Homepage auf „vergangene Konzerte“ öffnet sich eine schier endlos lange Reihe von Veranstaltungsorten in der Schweiz\, in Österreich und in Deutschland und irgendwo mittendrin findet sich auch unser Krümel – Dieter Bornzero Bornschlegel sitzt nicht zum ersten Mal auf unserer kleinen Minibühne mit seiner Gitarre auf dem Schoß… Seine selbstentwickelte\, ausgefeilte sehr eigene Spieltechnik überrascht und fasziniert zugleich\, sie macht ihn zu einem der ganz großen Ausnahmekünstler auf der Akustikgitarre. Ein weiterer unvergesslicher Konzertabend ist uns sicher!
URL:https://kunst-und-kruemel.com/event/live-bornzero/
LOCATION:Cafe Kunst & Krümel\, Hönower Str. 65\, Berlin\, 12623\, Deutschland
CATEGORIES:Konzert
ATTACH;FMTTYPE=image/jpeg:https://kunst-und-kruemel.com/wp-content/uploads/2023/12/image1.jpg
ORGANIZER;CN="Cafe Kunst & Kr%C3%BCmel":MAILTO:info@kunst-und-kruemel.com
END:VEVENT
END:VCALENDAR