BEGIN:VCALENDAR
VERSION:2.0
PRODID:-//Cafe Kunst &amp; Krümel - ECPv6.10.2//NONSGML v1.0//EN
CALSCALE:GREGORIAN
METHOD:PUBLISH
X-WR-CALNAME:Cafe Kunst &amp; Krümel
X-ORIGINAL-URL:https://kunst-und-kruemel.com
X-WR-CALDESC:Veranstaltungen für Cafe Kunst &amp; Krümel
REFRESH-INTERVAL;VALUE=DURATION:PT1H
X-Robots-Tag:noindex
X-PUBLISHED-TTL:PT1H
BEGIN:VTIMEZONE
TZID:Europe/Berlin
BEGIN:DAYLIGHT
TZOFFSETFROM:+0100
TZOFFSETTO:+0200
TZNAME:CEST
DTSTART:20240331T010000
END:DAYLIGHT
BEGIN:STANDARD
TZOFFSETFROM:+0200
TZOFFSETTO:+0100
TZNAME:CET
DTSTART:20241027T010000
END:STANDARD
END:VTIMEZONE
BEGIN:VEVENT
DTSTART;TZID=Europe/Berlin:20240301T120000
DTEND;TZID=Europe/Berlin:20240430T170000
DTSTAMP:20260425T004059
CREATED:20231215T170435Z
LAST-MODIFIED:20240312T145905Z
UID:1277-1709294400-1714496400@kunst-und-kruemel.com
SUMMARY:Ausstellung: PETER ISER & ALEXANDER KÖNIG
DESCRIPTION:Alexander König : Eiskunstläufer\, mehrere Siege im Einzel- und im Paarlauf\, Eiskunstlauftrainer\, jetzt Bildungsreferent\, Gesundheits- und Fitnesstrainer und freiberuflicher Berater in Sachen Eiskunstlauf… da braucht es einen ausgleichenden Gegenpart! Den hat der 1966 in Sachsen geborene Alexander König in der Malerei gefunden. Seit 1980 malt er\, inspiriert durch den kanadischen Eiskunstläufer Toller Cranston\, im surrealistischen Stil. Seine Werkzeuge sind Ölfarben\, Faserstifte\, Leinwände\, Papier und Pappe… Der ersten Ausstellung in der Berliner Künstlerkneipe „Zur Jette“ folgten weitere\, in diesem Jahr sind seine wundervollen Bilder nun im Kunst & Krümel zu betrachten. \n\n\n\nPeter Iser: Seit Kindheitstagen malt er mit großer Hingabe… Menschen\, Tiere\, Pflanzen – die Motive\, die Größen\, die Stile können unterschiedlicher nicht sein. Die bei uns ausgestellten Bilder stellen nur eine kleine Auswahl seiner Werke dar\, bieten aber dennoch einen kleinen Einblick in das kreative Schaffen eines leidenschaftlichen Künstlers.
URL:https://kunst-und-kruemel.com/event/ausstellung-peter-iser-alexander-koenig/
LOCATION:Cafe Kunst & Krümel\, Hönower Str. 65\, Berlin\, 12623\, Deutschland
CATEGORIES:Ausstellung
ATTACH;FMTTYPE=image/jpeg:https://kunst-und-kruemel.com/wp-content/uploads/2024/03/iser_koenig.jpg
ORGANIZER;CN="Cafe Kunst & Kr%C3%BCmel":MAILTO:info@kunst-und-kruemel.com
END:VEVENT
BEGIN:VEVENT
DTSTART;TZID=Europe/Berlin:20240413T190000
DTEND;TZID=Europe/Berlin:20240413T220000
DTSTAMP:20260425T004059
CREATED:20240311T202540Z
LAST-MODIFIED:20240311T202541Z
UID:1348-1713034800-1713045600@kunst-und-kruemel.com
SUMMARY:Live: ROB FLEMING
DESCRIPTION:Im vergangenem Jahr musste dieses Konzert leider verschoben werden\, nun ist es soweit… Wir freuen uns auf ihn! Sein Pseudonym hat sich der Berliner Singer/Songwriter Rob Fleming (nach Absprache mit dem Autor) von Nick Hornby geborgt\, in dessen Roman High Fidelity Rob die Hauptfigur ist. Wichtige musikalische Einflüsse für Robs Musik sind Bands wie Element of Crime\, Gisbert zu Knyphausen\, Thees Uhlmann\, Kettcar und Frank Turner. In seinen anspruchsvollen deutschen Texten setzt er auf eine Balance zwischen einfacher Aussage und mehrdeutiger Anspielung sowie auf die Überhöhung des Autobiografischen durch Verbindung mit dem Fiktiven. Romane schreiben dauert ihm zu lange\, in seinen Songs erzählt er seine Geschichten – mit klarem und mal auch mit etwas verklärtem Blick – immer aber mit einer großen Portion Ehrlichkeit und mit eingängigen Melodien. Sein erstes Album trägt den Titel „Bis hierher und dann?“.
URL:https://kunst-und-kruemel.com/event/live-rob-fleming/
LOCATION:Cafe Kunst & Krümel\, Hönower Str. 65\, Berlin\, 12623\, Deutschland
CATEGORIES:Konzert
ATTACH;FMTTYPE=image/jpeg:https://kunst-und-kruemel.com/wp-content/uploads/2024/03/20180825-P1144642-3-scaled.jpg
ORGANIZER;CN="Cafe Kunst & Kr%C3%BCmel":MAILTO:info@kunst-und-kruemel.com
END:VEVENT
BEGIN:VEVENT
DTSTART;TZID=Europe/Berlin:20240427T190000
DTEND;TZID=Europe/Berlin:20240427T220000
DTSTAMP:20260425T004059
CREATED:20240311T202716Z
LAST-MODIFIED:20240311T202717Z
UID:1351-1714244400-1714255200@kunst-und-kruemel.com
SUMMARY:Kabarett: TOM EHRLICH
DESCRIPTION:Sie dachten\, politisches Kabarett ist langweilig? Falsch ! Tom Ehrlich geht den Problemen auf den Grund\, es ist lustig und trotzdem lehrreich\, es wird geklatscht und auch gebuht. Es geht um Klimaschutz\, Künstliche Intelligenz\, Religion\, Querdenker\, soziale Gerechtigkeit und natürlich auch um die aktuelle Tagespolitik. Ein Makler erklärt den Unterschied zwischen Mensch und Mieter\, ein Versicherungsvertreter führt den gläsernen Menschen vor und in einer Sendung mit der Maus wird erklärt\, wie man richtig Geld verdient. Was ist der Unterschied zwischen einer Investmentbank und einem Casino? Und was bringt das Gendersternchen? Es wird abwechslungsreich\, empörend\, lustig und erfrischend anders.
URL:https://kunst-und-kruemel.com/event/kabarett-tom-ehrlich-2/
LOCATION:Cafe Kunst & Krümel\, Hönower Str. 65\, Berlin\, 12623\, Deutschland
CATEGORIES:Kabarett
ATTACH;FMTTYPE=image/jpeg:https://kunst-und-kruemel.com/wp-content/uploads/2024/03/TomEhrlich-scaled.jpg
ORGANIZER;CN="Cafe Kunst & Kr%C3%BCmel":MAILTO:info@kunst-und-kruemel.com
END:VEVENT
END:VCALENDAR