BEGIN:VCALENDAR
VERSION:2.0
PRODID:-//Cafe Kunst &amp; Krümel - ECPv6.10.2//NONSGML v1.0//EN
CALSCALE:GREGORIAN
METHOD:PUBLISH
X-WR-CALNAME:Cafe Kunst &amp; Krümel
X-ORIGINAL-URL:https://kunst-und-kruemel.com
X-WR-CALDESC:Veranstaltungen für Cafe Kunst &amp; Krümel
REFRESH-INTERVAL;VALUE=DURATION:PT1H
X-Robots-Tag:noindex
X-PUBLISHED-TTL:PT1H
BEGIN:VTIMEZONE
TZID:Europe/Berlin
BEGIN:DAYLIGHT
TZOFFSETFROM:+0100
TZOFFSETTO:+0200
TZNAME:CEST
DTSTART:20240331T010000
END:DAYLIGHT
BEGIN:STANDARD
TZOFFSETFROM:+0200
TZOFFSETTO:+0100
TZNAME:CET
DTSTART:20241027T010000
END:STANDARD
END:VTIMEZONE
BEGIN:VEVENT
DTSTART;TZID=Europe/Berlin:20240501T120000
DTEND;TZID=Europe/Berlin:20240630T170000
DTSTAMP:20260424T205115
CREATED:20240311T203349Z
LAST-MODIFIED:20240612T095758Z
UID:1365-1714564800-1719766800@kunst-und-kruemel.com
SUMMARY:Ausstellung: ROBERTO RISCH alias Rille - „DU SIEHST WAS\, WAS ICH NICHT SEHE“
DESCRIPTION:Der Künstler erblickte in Thüringen das Licht dieser Welt und „vermutlich auch sofort die Kunst“ (Zitat).2005 schmiedete er erneut Pläne für seine künstlerische Entwicklung\, kaufte sich Staffelei\, Pinsel und Farbe. So wurde die Leidenschaft fürs Malen\, Zeichnen und auch Fotografieren endgültig „wach geküsst“und lies Ihn von nun an nicht wieder los. Seit 2008 ist er verstärkt künstlerisch tätig\, seine Leidenschaft gilt vor allem dem Malen und Fotografieren.Nach dem er sich 2014 entschloss seine Heimatstadt Thüringen zu verlassen\, lebt und arbeitet er in Berlin. Hier hat er das Gefühl\, ausreichend Zeit und positiven Raum zu haben um sich selbst zu finden und Dies auch durch seine Kunst ausdrücken zu können. Sein breitgefächertes Interesse an Kunst\, Architektur und Mensch spiegelt sich hier im Spektrum seiner fotographischen Arbeitenwieder. Trotz einiger Höhen und Tiefen in seinem Leben resümiert er:„Es war einfach nicht einfach\, weil ich zweifach…mich einfach nichtentscheiden konnte\, in welche Richtung meine Kunstreise geht!Heute fühle ich mich\, wenn es zweifach und nicht einfach nurEinfach ist\, wirklich gut!“
URL:https://kunst-und-kruemel.com/event/ausstellung-roberto-risch-skizzen-bilder/
LOCATION:Cafe Kunst & Krümel\, Hönower Str. 65\, Berlin\, 12623\, Deutschland
CATEGORIES:Ausstellung
ORGANIZER;CN="Cafe Kunst & Kr%C3%BCmel":MAILTO:info@kunst-und-kruemel.com
END:VEVENT
BEGIN:VEVENT
DTSTART;TZID=Europe/Berlin:20240615T120000
DTEND;TZID=Europe/Berlin:20240731T170000
DTSTAMP:20260424T205115
CREATED:20240612T110553Z
LAST-MODIFIED:20240612T110554Z
UID:1440-1718452800-1722445200@kunst-und-kruemel.com
SUMMARY:Ausstellung: SABINE KORN - "Keramiken"
DESCRIPTION:Irgendwann begleitete Sabine mal eine Freundin auf dem Weg ins Keramikatelier und entdeckte dabei selbst ihre Liebe zu diesem Material. Mit der Zeit hat sie für sich herausgefunden\, dass es das figürliche Gestalten ist\, was ihr besonders am Herzen liegt und so sind unter ihren Händen wundervolle Wesen entstanden\, die jetzt teilweise den Gastraum im Krümel schmücken… Wunderbar anzusehen oder auch käuflich zu erwerben\, wie auch immer – ein Besuch lohnt auf jeden Fall.
URL:https://kunst-und-kruemel.com/event/ausstellung-sabine-korn-keramiken/
LOCATION:Cafe Kunst & Krümel\, Hönower Str. 65\, Berlin\, 12623\, Deutschland
CATEGORIES:Ausstellung
ORGANIZER;CN="Cafe Kunst & Kr%C3%BCmel":MAILTO:info@kunst-und-kruemel.com
END:VEVENT
BEGIN:VEVENT
DTSTART;TZID=Europe/Berlin:20240622T190000
DTEND;TZID=Europe/Berlin:20240622T220000
DTSTAMP:20260424T205115
CREATED:20240311T203046Z
LAST-MODIFIED:20240311T203046Z
UID:1359-1719082800-1719093600@kunst-und-kruemel.com
SUMMARY:Live: AMALIA CHIKH
DESCRIPTION:„Guten Tag\, isch bin Amalia Chikh und singe meine Lieder auf deutsch mit ein bisschen französichen Akzent“ so stellte sich die Berliner Liedermacherin aus Paris bei uns vor! Ich habe mir die deutsche Sprache von Goethe geliehen\, und nehme mir das Recht\, sie zu nutzen\, weil ich der Welt etwas zu sagen habe. Meinen Akzent und meine Art mit seiner Sprache umzugehen\, muss Goethe schon aushalten\, sagt sie! 2 Alben gibt es schon\, die Musik ist eine Mischung aus Chanson\, Jazz und orientalischen Klängen\, ihre Texte erzählen von Super Mamas\, dem Männerbild in unserer Gesellschaft\, Rechtsextremisten und dem Klimawandel. Wir sind sehr gespannt…
URL:https://kunst-und-kruemel.com/event/live-amalia-chikh/
LOCATION:Cafe Kunst & Krümel\, Hönower Str. 65\, Berlin\, 12623\, Deutschland
CATEGORIES:Konzert
ATTACH;FMTTYPE=image/jpeg:https://kunst-und-kruemel.com/wp-content/uploads/2024/03/AmaliaChikh_Presse1_Credit_JeffLelievre-scaled-1.jpg
ORGANIZER;CN="Cafe Kunst & Kr%C3%BCmel":MAILTO:info@kunst-und-kruemel.com
END:VEVENT
END:VCALENDAR