BEGIN:VCALENDAR
VERSION:2.0
PRODID:-//Cafe Kunst &amp; Krümel - ECPv6.10.2//NONSGML v1.0//EN
CALSCALE:GREGORIAN
METHOD:PUBLISH
X-WR-CALNAME:Cafe Kunst &amp; Krümel
X-ORIGINAL-URL:https://kunst-und-kruemel.com
X-WR-CALDESC:Veranstaltungen für Cafe Kunst &amp; Krümel
REFRESH-INTERVAL;VALUE=DURATION:PT1H
X-Robots-Tag:noindex
X-PUBLISHED-TTL:PT1H
BEGIN:VTIMEZONE
TZID:Europe/Berlin
BEGIN:DAYLIGHT
TZOFFSETFROM:+0100
TZOFFSETTO:+0200
TZNAME:CEST
DTSTART:20240331T010000
END:DAYLIGHT
BEGIN:STANDARD
TZOFFSETFROM:+0200
TZOFFSETTO:+0100
TZNAME:CET
DTSTART:20241027T010000
END:STANDARD
END:VTIMEZONE
BEGIN:VEVENT
DTSTART;TZID=Europe/Berlin:20240701T120000
DTEND;TZID=Europe/Berlin:20240831T170000
DTSTAMP:20260424T164806
CREATED:20240612T110106Z
LAST-MODIFIED:20240612T110107Z
UID:1437-1719835200-1725123600@kunst-und-kruemel.com
SUMMARY:Ausstellung: NORBERT MOEDE
DESCRIPTION:„Die Malerei ist mein Krieger gegen den Alltagsfeind“.Obwohl ich jede kriegerische Auseinandersetzung ablehne und mich als Pazifistenbezeichne\, gefiel mir das Zitat\, das mir in künstlerischen Zusammenhängenbegegnet ist. Dafür will ich es gelten lassen.Der Alltag ein „Feind“? Mitunter schon\, wenn er mit seinen zum Teil einengendenStrukturen zu bestimmend wird.Sehr entgegen gekommen für meine Hobbys ist mir\, dass sich mein Leben entspannthat\, seitdem ich nicht mehr in den täglichen Mühlen des Berufslebens stecke.Sich auszudrücken in Wort und Bild ist somit zu einer späten\, dann allerdings einersehr erfüllenden fried- und freudvollen Beschäftigung für mich geworden. Zu demInteresse an der Kunst seit meiner Schulzeit gesellte sich danach auch der Umgangmit Feder und Pinsel. Manchmal in Form eines konkreten Gedankens\, dann wiederganz dem spontanen Gefühl folgend. Der jeweiligen Stimmung ein Aussehen zugeben\, mich von Farben und Materialien leiten zu lassen\, soll in meinen Bildern undTexten Ausdruck finden.Viele Aufenthalte in Spanien – insbesondere seit meiner Pensionierung – haben dieHinwendung zum Malen beeinflusst. Das dortige Licht\, die Sonne und das warmeKlima haben meine Bilder geprägt.Daneben widme ich mich seit meiner frühen Jugend der Musik. Mein Instrument\, dasAkkordeon\, ist zu einem ständigen Begleiter geworden.Eine größere Werkschau fand vor einiger Zeit in der Krankenhauskirche imWuhlgarten in Berlin-Biesdorf\, im Kunsthaus Flora in Berlin-Mahlsdorf und imBegegnungszentrum „Kiezclub“ in Köpenick- Wendenschloß statt.
URL:https://kunst-und-kruemel.com/event/ausstellung-norbert-moede/
LOCATION:Cafe Kunst & Krümel\, Hönower Str. 65\, Berlin\, 12623\, Deutschland
CATEGORIES:Ausstellung
ATTACH;FMTTYPE=image/jpeg:https://kunst-und-kruemel.com/wp-content/uploads/2024/06/Moede-scaled.jpg
ORGANIZER;CN="Cafe Kunst & Kr%C3%BCmel":MAILTO:info@kunst-und-kruemel.com
END:VEVENT
BEGIN:VEVENT
DTSTART;TZID=Europe/Berlin:20240715T120000
DTEND;TZID=Europe/Berlin:20240930T170000
DTSTAMP:20260424T164806
CREATED:20240807T112341Z
LAST-MODIFIED:20240807T112341Z
UID:1485-1721044800-1727715600@kunst-und-kruemel.com
SUMMARY:Ausstellung: SABINE KORN - figürliche Keramik
DESCRIPTION:
URL:https://kunst-und-kruemel.com/event/ausstellung-sabine-korn-figuerliche-keramik-2/
LOCATION:Cafe Kunst & Krümel\, Hönower Str. 65\, Berlin\, 12623\, Deutschland
CATEGORIES:Ausstellung
ATTACH;FMTTYPE=image/jpeg:https://kunst-und-kruemel.com/wp-content/uploads/2024/08/20240802_093247-scaled.jpg
ORGANIZER;CN="Cafe Kunst & Kr%C3%BCmel":MAILTO:info@kunst-und-kruemel.com
END:VEVENT
END:VCALENDAR