BEGIN:VCALENDAR
VERSION:2.0
PRODID:-//Cafe Kunst &amp; Krümel - ECPv6.10.2//NONSGML v1.0//EN
CALSCALE:GREGORIAN
METHOD:PUBLISH
X-WR-CALNAME:Cafe Kunst &amp; Krümel
X-ORIGINAL-URL:https://kunst-und-kruemel.com
X-WR-CALDESC:Veranstaltungen für Cafe Kunst &amp; Krümel
REFRESH-INTERVAL;VALUE=DURATION:PT1H
X-Robots-Tag:noindex
X-PUBLISHED-TTL:PT1H
BEGIN:VTIMEZONE
TZID:Europe/Berlin
BEGIN:DAYLIGHT
TZOFFSETFROM:+0100
TZOFFSETTO:+0200
TZNAME:CEST
DTSTART:20240331T010000
END:DAYLIGHT
BEGIN:STANDARD
TZOFFSETFROM:+0200
TZOFFSETTO:+0100
TZNAME:CET
DTSTART:20241027T010000
END:STANDARD
END:VTIMEZONE
BEGIN:VEVENT
DTSTART;TZID=Europe/Berlin:20240715T120000
DTEND;TZID=Europe/Berlin:20240930T170000
DTSTAMP:20260424T144825
CREATED:20240807T112341Z
LAST-MODIFIED:20240807T112341Z
UID:1485-1721044800-1727715600@kunst-und-kruemel.com
SUMMARY:Ausstellung: SABINE KORN - figürliche Keramik
DESCRIPTION:
URL:https://kunst-und-kruemel.com/event/ausstellung-sabine-korn-figuerliche-keramik-2/
LOCATION:Cafe Kunst & Krümel\, Hönower Str. 65\, Berlin\, 12623\, Deutschland
CATEGORIES:Ausstellung
ATTACH;FMTTYPE=image/jpeg:https://kunst-und-kruemel.com/wp-content/uploads/2024/08/20240802_093247-scaled.jpg
ORGANIZER;CN="Cafe Kunst & Kr%C3%BCmel":MAILTO:info@kunst-und-kruemel.com
END:VEVENT
BEGIN:VEVENT
DTSTART;TZID=Europe/Berlin:20240901T120000
DTEND;TZID=Europe/Berlin:20241031T170000
DTSTAMP:20260424T144825
CREATED:20240807T111933Z
LAST-MODIFIED:20240807T111934Z
UID:1480-1725192000-1730394000@kunst-und-kruemel.com
SUMMARY:Ausstellung: JENS SCHULZE - "Blicke ohne Grenzen" (Fotografie)
DESCRIPTION:„Unbekümmert um Länder- und Musikgrenzen hat das Rudolstadt-Festival seit vielen Jahren ein bemerkenswertes Eigenleben entwickelt und quer durch alle Altersgruppen eine kaum überschaubare Fangemeinde gewonnen. An jedem ersten Juliwochenende strömen zehntausende Weltmusik-Anhänger in die Stadt an der Saale und entern die Plätze vor den Konzertbühnen in der Altstadt\, im Heinepark und auf der Heidecksburg. So auch Jens Schulze mit seiner Kamera.“ (G. Zessin\, Berlin)
URL:https://kunst-und-kruemel.com/event/ausstellung-jens-schulze-blicke-ohne-grenzen-fotografie/
LOCATION:Cafe Kunst & Krümel\, Hönower Str. 65\, Berlin\, 12623\, Deutschland
CATEGORIES:Ausstellung
ATTACH;FMTTYPE=image/jpeg:https://kunst-und-kruemel.com/wp-content/uploads/2024/08/20240901-Plakat-Fotoausstellung-Blicke-ohne-Grenzen-II-TFF-Ausstellung-KuK.jpg
ORGANIZER;CN="Cafe Kunst & Kr%C3%BCmel":MAILTO:info@kunst-und-kruemel.com
END:VEVENT
BEGIN:VEVENT
DTSTART;TZID=Europe/Berlin:20240914T190000
DTEND;TZID=Europe/Berlin:20240914T220000
DTSTAMP:20260424T144825
CREATED:20240807T110442Z
LAST-MODIFIED:20240807T110443Z
UID:1460-1726340400-1726351200@kunst-und-kruemel.com
SUMMARY:Live: BASTIAN BANDT
DESCRIPTION:Liedermacher\, Theatermusiker mehrfacher Preisträger und großartiger Mensch… Bastian ist kein Unbekannter auf unserer kleinen Bühne\, hat er uns doch schon zweimal die Ehre gegeben! Seine Texte werden als tiefgründig\, berührend beschrieben\, sind manchmal auch dreckig\, trotzig oder um die Ecke gedacht\, aber immer sind sie ganz besonders! Er wühlt sich damit über die Gitarre direkt in dieKöpfe und von dort in Herzen seiner Zuhörer! Ein Zitat eines Krümelgastes nach einem Bandt-Abend: „Mit seinen Songs spricht er aus\, wofür wir nicht die Worte finden! Wer ihn einmal gehört und erlebt hat\, kommt nicht mehr von ihm los!“
URL:https://kunst-und-kruemel.com/event/live-bastian-bandt-3/
LOCATION:Cafe Kunst & Krümel\, Hönower Str. 65\, Berlin\, 12623\, Deutschland
CATEGORIES:Konzert
ATTACH;FMTTYPE=image/jpeg:https://kunst-und-kruemel.com/wp-content/uploads/2024/08/Bastian-Bandt-quer1-Nadja_Dreismann-scaled.jpg
ORGANIZER;CN="Cafe Kunst & Kr%C3%BCmel":MAILTO:info@kunst-und-kruemel.com
END:VEVENT
BEGIN:VEVENT
DTSTART;TZID=Europe/Berlin:20240928T190000
DTEND;TZID=Europe/Berlin:20240928T220000
DTSTAMP:20260424T144825
CREATED:20240807T110542Z
LAST-MODIFIED:20240926T194404Z
UID:1463-1727550000-1727560800@kunst-und-kruemel.com
SUMMARY:Verschoben: FRAU NEUMANN & DIE HERRLICHKEIT
DESCRIPTION:Das Konzert muss leider krankheitsbedingt verschoben werden\, wir halten euch über den Ersatztermin auf dem Laufenden!“Oh\, bitte hört nie auf\, in solchen Perlen wie dem heutigen Café hier zu spielen…“ Diese Bitte der Bandfotografin Kim L’hoest pointiert\, was nach dem Konzert im Februar 2023 als Resümee durch unseren Gastraum schwirrte: Frau Neumann und die Herrlichkeit überzeugten mit ihrer ganz eigenen Interpretation des Lebens im Allgemeinen und im Besonderen mittels hand- und hausgemachter Singer-Songwriter-Musik vom Feinsten\, viel Humor und Charisma! Damit passten sie in unser kleines Kleinod wie die Pünktchen auf dem Krümel-ü! Und obwohl „reif für die großen Bühnen“ (Zitat Kim)\, vergessen sie die kleinen nicht – wir freuen uns\, sie an diesem Septemberabend wieder hier zu haben!
URL:https://kunst-und-kruemel.com/event/live-frau-neumann-die-herrlichkeit-2/
LOCATION:Cafe Kunst & Krümel\, Hönower Str. 65\, Berlin\, 12623\, Deutschland
CATEGORIES:Konzert
ATTACH;FMTTYPE=image/jpeg:https://kunst-und-kruemel.com/wp-content/uploads/2024/08/03f5d65e-21c3-4e30-bbc3-4ff2890bb864.jpg
ORGANIZER;CN="Cafe Kunst & Kr%C3%BCmel":MAILTO:info@kunst-und-kruemel.com
END:VEVENT
END:VCALENDAR