BEGIN:VCALENDAR
VERSION:2.0
PRODID:-//Cafe Kunst &amp; Krümel - ECPv6.10.2//NONSGML v1.0//EN
CALSCALE:GREGORIAN
METHOD:PUBLISH
X-ORIGINAL-URL:https://kunst-und-kruemel.com
X-WR-CALDESC:Veranstaltungen für Cafe Kunst &amp; Krümel
REFRESH-INTERVAL;VALUE=DURATION:PT1H
X-Robots-Tag:noindex
X-PUBLISHED-TTL:PT1H
BEGIN:VTIMEZONE
TZID:Europe/Berlin
BEGIN:DAYLIGHT
TZOFFSETFROM:+0100
TZOFFSETTO:+0200
TZNAME:CEST
DTSTART:20250330T010000
END:DAYLIGHT
BEGIN:STANDARD
TZOFFSETFROM:+0200
TZOFFSETTO:+0100
TZNAME:CET
DTSTART:20251026T010000
END:STANDARD
END:VTIMEZONE
BEGIN:VEVENT
DTSTART;TZID=Europe/Berlin:20250301T080000
DTEND;TZID=Europe/Berlin:20250430T170000
DTSTAMP:20260422T024040
CREATED:20250309T211042Z
LAST-MODIFIED:20250309T211043Z
UID:1726-1740816000-1746032400@kunst-und-kruemel.com
SUMMARY:Ausstellung: CHRISTINA KAPITSCHKE - "Genäht\, gefaltet\, gemalt"
DESCRIPTION:
URL:https://kunst-und-kruemel.com/event/ausstellung-christina-kapitschke-genaeht-gefaltet-gemalt/
LOCATION:Cafe Kunst & Krümel\, Hönower Str. 65\, Berlin\, 12623\, Deutschland
CATEGORIES:Ausstellung
ATTACH;FMTTYPE=image/jpeg:https://kunst-und-kruemel.com/wp-content/uploads/2025/03/Genaeht-gefaltet-gemalt-scaled.jpg
ORGANIZER;CN="Cafe Kunst & Kr%C3%BCmel":MAILTO:info@kunst-und-kruemel.com
END:VEVENT
BEGIN:VEVENT
DTSTART;TZID=Europe/Berlin:20250301T080000
DTEND;TZID=Europe/Berlin:20250331T170000
DTSTAMP:20260422T024040
CREATED:20250309T211218Z
LAST-MODIFIED:20250309T211219Z
UID:1729-1740816000-1743440400@kunst-und-kruemel.com
SUMMARY:Ausstellung: SIMONE CYBULSKI - "Osterkränze und mehr"
DESCRIPTION:
URL:https://kunst-und-kruemel.com/event/ausstellung-simone-cybulski-osterkraenze-und-mehr/
LOCATION:Cafe Kunst & Krümel\, Hönower Str. 65\, Berlin\, 12623\, Deutschland
CATEGORIES:Ausstellung
ATTACH;FMTTYPE=image/jpeg:https://kunst-und-kruemel.com/wp-content/uploads/2025/03/Osterkraenze-scaled.jpg
ORGANIZER;CN="Cafe Kunst & Kr%C3%BCmel":MAILTO:info@kunst-und-kruemel.com
END:VEVENT
BEGIN:VEVENT
DTSTART;TZID=Europe/Berlin:20250301T100000
DTEND;TZID=Europe/Berlin:20250430T170000
DTSTAMP:20260422T024040
CREATED:20250309T210639Z
LAST-MODIFIED:20250309T210657Z
UID:1717-1740823200-1746032400@kunst-und-kruemel.com
SUMMARY:Ausstellung: HANS-GEORG KROISS Fotografie "Tattoos"
DESCRIPTION:
URL:https://kunst-und-kruemel.com/event/ausstellung-hans-georg-kroiss-tattoos/
LOCATION:Cafe Kunst & Krümel\, Hönower Str. 65\, Berlin\, 12623\, Deutschland
CATEGORIES:Ausstellung
ATTACH;FMTTYPE=image/jpeg:https://kunst-und-kruemel.com/wp-content/uploads/2025/03/Tattoo1-scaled.jpg
ORGANIZER;CN="Cafe Kunst & Kr%C3%BCmel":MAILTO:info@kunst-und-kruemel.com
END:VEVENT
BEGIN:VEVENT
DTSTART;TZID=Europe/Berlin:20250301T190000
DTEND;TZID=Europe/Berlin:20250301T220000
DTSTAMP:20260422T024040
CREATED:20241219T122613Z
LAST-MODIFIED:20241219T122614Z
UID:1601-1740855600-1740866400@kunst-und-kruemel.com
SUMMARY:Live: BERLINER FAHRGEMEINSCHAFT - MATTHIAS WIESENHÜTTER & TILL PAULMANN
DESCRIPTION:Die Berliner Fahrgemeinschaft\, das ist ein akustisches Gitarrenprojekt um die beiden Musiker Matthias Wiesenhütter und Till Paulmann… Die beiden spielen zeitlose Eigenkompositionen zwischen POP\, Klassik\, Jazz und Latin. Virtuos und verspielt\, dennoch immer melodisch und einfühlsam…
URL:https://kunst-und-kruemel.com/event/live-berliner-fahrgemeinschaft-matthias-wiesenhuetter-till-paulmann/
LOCATION:Cafe Kunst & Krümel\, Hönower Str. 65\, Berlin\, 12623\, Deutschland
CATEGORIES:Konzert
ORGANIZER;CN="Cafe Kunst & Kr%C3%BCmel":MAILTO:info@kunst-und-kruemel.com
END:VEVENT
BEGIN:VEVENT
DTSTART;TZID=Europe/Berlin:20250315T190000
DTEND;TZID=Europe/Berlin:20250315T220000
DTSTAMP:20260422T024040
CREATED:20241219T122701Z
LAST-MODIFIED:20250207T173436Z
UID:1603-1742065200-1742076000@kunst-und-kruemel.com
SUMMARY:Lesung: BLANCHE KOMMERELL - "SO LANGE MEIN SPIEL MICH TRÄGT"
DESCRIPTION:Gedichte und Geschichten aus dem letzten Jahr\, Auszüge aus dem Manuskript.„Geschichten aus dem Leben einer Mutter“ und „Gedanken zu meinem 75. Geburtstag“
URL:https://kunst-und-kruemel.com/event/lesung-blanche-kommerell-2/
LOCATION:Cafe Kunst & Krümel\, Hönower Str. 65\, Berlin\, 12623\, Deutschland
CATEGORIES:Lesung
ATTACH;FMTTYPE=image/jpeg:https://kunst-und-kruemel.com/wp-content/uploads/2024/12/Blanche24.jpg
ORGANIZER;CN="Cafe Kunst & Kr%C3%BCmel":MAILTO:info@kunst-und-kruemel.com
END:VEVENT
BEGIN:VEVENT
DTSTART;TZID=Europe/Berlin:20250329T190000
DTEND;TZID=Europe/Berlin:20250329T220000
DTSTAMP:20260422T024040
CREATED:20241219T122759Z
LAST-MODIFIED:20241219T122941Z
UID:1606-1743274800-1743285600@kunst-und-kruemel.com
SUMMARY:Live: DUO UNVERHOFFT - ROLAND PLOTA & CHRISTIANE VON KOZIEROWSKI
DESCRIPTION:Ganz unverhofft standen sie eines Tages in der Krümeltür um ein Konzert anzubieten… Roland ist Musikpädagoge und Gitarrist und Christiane Anästhesistin und Hobbymusikerin. Sie machen handgemachte Musik mit Gitarre\, Gesang\, Mundharmonika und Percussion\, mal als Duo\, Solo oder mit anderen Musikern. Zu uns kommen sie zu zweit und spielen eigene deutschsprachige Lieder im Singer-Songwriter Programm und Covertitel aus Swing\, Folk\, Blues\, Jazz im SFB– Programm.
URL:https://kunst-und-kruemel.com/event/live-duo-unverhofft-_-roland-plota-christiane-von-kozierowski/
LOCATION:Cafe Kunst & Krümel\, Hönower Str. 65\, Berlin\, 12623\, Deutschland
CATEGORIES:Konzert
ATTACH;FMTTYPE=image/jpeg:https://kunst-und-kruemel.com/wp-content/uploads/2024/12/DuoUnverhofft.jpg
ORGANIZER;CN="Cafe Kunst & Kr%C3%BCmel":MAILTO:info@kunst-und-kruemel.com
END:VEVENT
END:VCALENDAR