BEGIN:VCALENDAR
VERSION:2.0
PRODID:-//Cafe Kunst &amp; Krümel - ECPv6.10.2//NONSGML v1.0//EN
CALSCALE:GREGORIAN
METHOD:PUBLISH
X-ORIGINAL-URL:https://kunst-und-kruemel.com
X-WR-CALDESC:Veranstaltungen für Cafe Kunst &amp; Krümel
REFRESH-INTERVAL;VALUE=DURATION:PT1H
X-Robots-Tag:noindex
X-PUBLISHED-TTL:PT1H
BEGIN:VTIMEZONE
TZID:Europe/Berlin
BEGIN:DAYLIGHT
TZOFFSETFROM:+0100
TZOFFSETTO:+0200
TZNAME:CEST
DTSTART:20250330T010000
END:DAYLIGHT
BEGIN:STANDARD
TZOFFSETFROM:+0200
TZOFFSETTO:+0100
TZNAME:CET
DTSTART:20251026T010000
END:STANDARD
END:VTIMEZONE
BEGIN:VEVENT
DTSTART;TZID=Europe/Berlin:20250501T120000
DTEND;TZID=Europe/Berlin:20250630T170000
DTSTAMP:20260421T224931
CREATED:20250309T210810Z
LAST-MODIFIED:20250309T220332Z
UID:1721-1746100800-1751302800@kunst-und-kruemel.com
SUMMARY:Ausstellung: CORNELIA LESCHKE - Fotografie "Foodteller"
DESCRIPTION:
URL:https://kunst-und-kruemel.com/event/ausstellung-cornelia-leschke-fotografie-foodteller/
LOCATION:Cafe Kunst & Krümel\, Hönower Str. 65\, Berlin\, 12623\, Deutschland
CATEGORIES:Ausstellung
ATTACH;FMTTYPE=image/jpeg:https://kunst-und-kruemel.com/wp-content/uploads/2025/03/WhatsApp-Image-2025-03-09-at-22.53.05.jpeg
ORGANIZER;CN="Cafe Kunst & Kr%C3%BCmel":MAILTO:info@kunst-und-kruemel.com
END:VEVENT
BEGIN:VEVENT
DTSTART;TZID=Europe/Berlin:20250517T190000
DTEND;TZID=Europe/Berlin:20250517T220000
DTSTAMP:20260421T224931
CREATED:20250309T205552Z
LAST-MODIFIED:20250309T211403Z
UID:1708-1747508400-1747519200@kunst-und-kruemel.com
SUMMARY:Lesung: PEGGY LANGHANS
DESCRIPTION:Zum zweiten Mal ist die studierte Sozial- und Theaterwissenschaftlerin\, Regisseurin und Autorin mehrerer Theaterstücke und Bücher zu Gast im Krümel. Diesmal liest sie Kurzgeschichten aus ihrem Buch „Kaffee am Beckenrand“. Es sind Geschichten für Wasserliebhaber und Schwimmbegeisterte – für alle\, die die Freude am Wasser und die Freude am Leben teilen. Lasst euch überraschen. Denn manchmal beginnt mit dem ersten Schwimmzug eine Reise\, die zu neuen\, noch unbekannten\, teils unerwarteten Optionen führt.
URL:https://kunst-und-kruemel.com/event/lesung-peggy-langhans/
LOCATION:Cafe Kunst & Krümel\, Hönower Str. 65\, Berlin\, 12623\, Deutschland
CATEGORIES:Lesung
ATTACH;FMTTYPE=image/jpeg:https://kunst-und-kruemel.com/wp-content/uploads/2025/03/Peggy-Langhans.jpg
ORGANIZER;CN="Cafe Kunst & Kr%C3%BCmel":MAILTO:info@kunst-und-kruemel.com
END:VEVENT
BEGIN:VEVENT
DTSTART;TZID=Europe/Berlin:20250524T190000
DTEND;TZID=Europe/Berlin:20250524T220000
DTSTAMP:20260421T224931
CREATED:20250309T205643Z
LAST-MODIFIED:20250329T184022Z
UID:1710-1748113200-1748124000@kunst-und-kruemel.com
SUMMARY:Live: ENDESFELDER & DER WETTERBASS (verlegt vom 31.05.)
DESCRIPTION:„Du bist verantwortlich für das\, was Du Dir vertraut gemacht hast\, für immer“\, schreibt Antoine de Saint-Exupery in seinem berühmtesten Buch „Der kleine Prinz“. Jörg Endesfelder (Gitarre und Gesang) und Arne Spekat (Multiinstrumentalist mit besonderer Liebe zum Bass) haben sich diese Botschaft auch künstlerisch zu eigen gemacht. Die Weisheiten hinter dieser Botschaft sind sehr nahe gehend – auf ballastfreie Weise philosophisch und einsichtig. Am Werk Kurt Demmlers\, dessen Version die Grundlage des Programms bildet\, führt kaum ein Weg vorbei. Zahlreiche seiner Stücke zwischen Chanson und akustischem Rock wurden hier bearbeitet und dem Instrumentarium des Duos angepasst. So erwartet uns ein Abend voller Poesie mit zwei erfahrenen\, spielfreudigen Musikern\, die ihr Publikum vertraut machen möchten mit dem\, was ihnen selbst am Herzen liegt.
URL:https://kunst-und-kruemel.com/event/live-endesfelder-der-wetterbass/
LOCATION:Cafe Kunst & Krümel\, Hönower Str. 65\, Berlin\, 12623\, Deutschland
CATEGORIES:Konzert
ATTACH;FMTTYPE=image/jpeg:https://kunst-und-kruemel.com/wp-content/uploads/2025/03/EndesfelderWetterbass_StagePic.jpg
ORGANIZER;CN="Cafe Kunst & Kr%C3%BCmel":MAILTO:info@kunst-und-kruemel.com
END:VEVENT
END:VCALENDAR