BEGIN:VCALENDAR
VERSION:2.0
PRODID:-//Cafe Kunst &amp; Krümel - ECPv6.10.2//NONSGML v1.0//EN
CALSCALE:GREGORIAN
METHOD:PUBLISH
X-ORIGINAL-URL:https://kunst-und-kruemel.com
X-WR-CALDESC:Veranstaltungen für Cafe Kunst &amp; Krümel
REFRESH-INTERVAL;VALUE=DURATION:PT1H
X-Robots-Tag:noindex
X-PUBLISHED-TTL:PT1H
BEGIN:VTIMEZONE
TZID:Europe/Berlin
BEGIN:DAYLIGHT
TZOFFSETFROM:+0100
TZOFFSETTO:+0200
TZNAME:CEST
DTSTART:20250330T010000
END:DAYLIGHT
BEGIN:STANDARD
TZOFFSETFROM:+0200
TZOFFSETTO:+0100
TZNAME:CET
DTSTART:20251026T010000
END:STANDARD
END:VTIMEZONE
BEGIN:VEVENT
DTSTART;TZID=Europe/Berlin:20250913T190000
DTEND;TZID=Europe/Berlin:20250913T220000
DTSTAMP:20260421T152228
CREATED:20250627T191036Z
LAST-MODIFIED:20250627T191037Z
UID:1851-1757790000-1757800800@kunst-und-kruemel.com
SUMMARY:Kabarett: Gerd Hoffmann
DESCRIPTION:So haben Sie die Politik noch nicht gesehen.Gewohnt akribisch\, zielstrebig\, witzig und unterhaltsam widmet sich der Kabarettist Gerd Hoffmannden aktuellen Entwicklungen in Politik und Gesellschaft und spart dabei nicht mit teils bissigenAnmerkungen in seinem Programm „Keine Ahnung“.
URL:https://kunst-und-kruemel.com/event/kabarett-gerd-hoffmann/
LOCATION:Cafe Kunst & Krümel\, Hönower Str. 65\, Berlin\, 12623\, Deutschland
CATEGORIES:Kabarett
ATTACH;FMTTYPE=image/jpeg:https://kunst-und-kruemel.com/wp-content/uploads/2025/06/IMG-20250625-WA0003-2.jpg
ORGANIZER;CN="Cafe Kunst & Kr%C3%BCmel":MAILTO:info@kunst-und-kruemel.com
END:VEVENT
BEGIN:VEVENT
DTSTART;TZID=Europe/Berlin:20250927T190000
DTEND;TZID=Europe/Berlin:20250927T220000
DTSTAMP:20260421T152228
CREATED:20250627T171744Z
LAST-MODIFIED:20250817T114445Z
UID:1844-1758999600-1759010400@kunst-und-kruemel.com
SUMMARY:Live: Grooving Smoothies
DESCRIPTION:Sie präsentieren eine bunte Mischung aus Jazz\, Latin\, Klezmer und Balkan. Das Repertoire reicht von melancholischen bis zu heiteren Stücken aus verschiedenen Kulturen\, darunter bekannte und weniger bekannte Lieder sowie eigene Arrangements. Die zeitlose Musik vermittelt Lebensfreude und berührt. \n\n\n\nLourens de Jong: Gesang\, Gitarre – Klaus Stanjek: Klarinette –Frank Tietz: Bass\, Gitarre – Lydia Poppe: Perkussion\, BegleitgesangHörproben siehe Youtube @ grooving smoothies
URL:https://kunst-und-kruemel.com/event/live-grooving-smoothies/
LOCATION:Cafe Kunst & Krümel\, Hönower Str. 65\, Berlin\, 12623\, Deutschland
CATEGORIES:Konzert
ATTACH;FMTTYPE=image/jpeg:https://kunst-und-kruemel.com/wp-content/uploads/2025/06/2024-05-17_17-21-25-kl.jpg
ORGANIZER;CN="Cafe Kunst & Kr%C3%BCmel":MAILTO:info@kunst-und-kruemel.com
END:VEVENT
END:VCALENDAR