BEGIN:VCALENDAR
VERSION:2.0
PRODID:-//Cafe Kunst &amp; Krümel - ECPv6.10.2//NONSGML v1.0//EN
CALSCALE:GREGORIAN
METHOD:PUBLISH
X-WR-CALNAME:Cafe Kunst &amp; Krümel
X-ORIGINAL-URL:https://kunst-und-kruemel.com
X-WR-CALDESC:Veranstaltungen für Cafe Kunst &amp; Krümel
REFRESH-INTERVAL;VALUE=DURATION:PT1H
X-Robots-Tag:noindex
X-PUBLISHED-TTL:PT1H
BEGIN:VTIMEZONE
TZID:Europe/Berlin
BEGIN:DAYLIGHT
TZOFFSETFROM:+0100
TZOFFSETTO:+0200
TZNAME:CEST
DTSTART:20250330T010000
END:DAYLIGHT
BEGIN:STANDARD
TZOFFSETFROM:+0200
TZOFFSETTO:+0100
TZNAME:CET
DTSTART:20251026T010000
END:STANDARD
END:VTIMEZONE
BEGIN:VEVENT
DTSTART;TZID=Europe/Berlin:20251004T190000
DTEND;TZID=Europe/Berlin:20251004T220000
DTSTAMP:20260421T133111
CREATED:20250627T171629Z
LAST-MODIFIED:20250627T171630Z
UID:1841-1759604400-1759615200@kunst-und-kruemel.com
SUMMARY:Live: Tony Ávila
DESCRIPTION:Tony Ávila ist ein großartiger Singer-Songwriter\, der sein Publikum nicht nur zum Tanzen bringt\,sondern mit seinen Texten auch zum Nachdenken anregt\, er verkörpert mit Leidenschaft kubanischeMusikalität und Kreativität. 2023 war er bereits auf dem Weltmusikfestival in Rudolstadt zu hören\,nun befindet sich der kubanische Sänger auf kleiner Europa-Tour und stoppt gemeinsam mit derkubanischen Perkussionistin Shakira Torna bei uns im Krümel…
URL:https://kunst-und-kruemel.com/event/live-tony-avila/
LOCATION:Cafe Kunst & Krümel\, Hönower Str. 65\, Berlin\, 12623\, Deutschland
CATEGORIES:Konzert
ATTACH;FMTTYPE=image/jpeg:https://kunst-und-kruemel.com/wp-content/uploads/2025/06/Tony-Avila.jpg
ORGANIZER;CN="Cafe Kunst & Kr%C3%BCmel":MAILTO:info@kunst-und-kruemel.com
END:VEVENT
BEGIN:VEVENT
DTSTART;TZID=Europe/Berlin:20251011T190000
DTEND;TZID=Europe/Berlin:20251011T220000
DTSTAMP:20260421T133111
CREATED:20250627T171513Z
LAST-MODIFIED:20250627T171514Z
UID:1839-1760209200-1760220000@kunst-und-kruemel.com
SUMMARY:Live: Frau Neumann & die Herrlichkeit
DESCRIPTION:“Oh\, bitte hört nie auf\, in solchen Perlen wie dem Café hier zu spielen…“ Diese Bitte derBandfotografin Kim L’hoest pointiert\, was nach dem Konzert im Februar 2023 als Resümee durchunseren Gastraum schwirrte: Frau Neumann und die Herrlichkeit überzeugten mit ihrer ganz eigenenInterpretation des Lebens im Allgemeinen und im Besonderen mittels hand- und hausgemachterSinger-Songwriter-Musik vom Feinsten\, viel Humor und Charisma! Damit passten sie in unser kleinesKleinod wie die Pünktchen auf dem Krümel-ü! Im September 2024 wollten sie wiederkommen\, aberCorona schlug noch einmal zu und Frau Neumann musste das Bett hüten. Nun ist ein neuer Termingefunden– wir freuen uns\, sie an diesem Oktoberabend wieder hier zu haben!
URL:https://kunst-und-kruemel.com/event/live-frau-neumann-die-herrlichkeit-3/
LOCATION:Cafe Kunst & Krümel\, Hönower Str. 65\, Berlin\, 12623\, Deutschland
CATEGORIES:Konzert
ATTACH;FMTTYPE=image/jpeg:https://kunst-und-kruemel.com/wp-content/uploads/2024/08/03f5d65e-21c3-4e30-bbc3-4ff2890bb864.jpg
ORGANIZER;CN="Cafe Kunst & Kr%C3%BCmel":MAILTO:info@kunst-und-kruemel.com
END:VEVENT
BEGIN:VEVENT
DTSTART;TZID=Europe/Berlin:20251018T190000
DTEND;TZID=Europe/Berlin:20251018T220000
DTSTAMP:20260421T133111
CREATED:20250627T171244Z
LAST-MODIFIED:20250723T135200Z
UID:1837-1760814000-1760824800@kunst-und-kruemel.com
SUMMARY:Konzert: Miriam Spranger
DESCRIPTION:Erlebt Miriam Spranger\, die vielseitige Singer/Songwriterin aus Chemnitz\, die mit Gitarre\, Loopstation und deutschen Texten nachdenkliche und ehrliche Geschichten erzählt. Mit Charme\, Witz und ihrer einzigartigen Mischung aus Pop\, Folk und Tiefe begeistert sie das Publikum live – denn: Zwischen den Zeilen liest es sich immer noch am besten.
URL:https://kunst-und-kruemel.com/event/konzert-miriam-spranger/
LOCATION:Cafe Kunst & Krümel\, Hönower Str. 65\, Berlin\, 12623\, Deutschland
CATEGORIES:Konzert
ATTACH;FMTTYPE=image/webp:https://kunst-und-kruemel.com/wp-content/uploads/2025/06/PressefotoMiriamSpranger_2020sw.webp
ORGANIZER;CN="Cafe Kunst & Kr%C3%BCmel":MAILTO:info@kunst-und-kruemel.com
END:VEVENT
END:VCALENDAR