BEGIN:VCALENDAR
VERSION:2.0
PRODID:-//Cafe Kunst &amp; Krümel - ECPv6.10.2//NONSGML v1.0//EN
CALSCALE:GREGORIAN
METHOD:PUBLISH
X-ORIGINAL-URL:https://kunst-und-kruemel.com
X-WR-CALDESC:Veranstaltungen für Cafe Kunst &amp; Krümel
REFRESH-INTERVAL;VALUE=DURATION:PT1H
X-Robots-Tag:noindex
X-PUBLISHED-TTL:PT1H
BEGIN:VTIMEZONE
TZID:Europe/Berlin
BEGIN:DAYLIGHT
TZOFFSETFROM:+0100
TZOFFSETTO:+0200
TZNAME:CEST
DTSTART:20250330T010000
END:DAYLIGHT
BEGIN:STANDARD
TZOFFSETFROM:+0200
TZOFFSETTO:+0100
TZNAME:CET
DTSTART:20251026T010000
END:STANDARD
END:VTIMEZONE
BEGIN:VEVENT
DTSTART;TZID=Europe/Berlin:20251101T190000
DTEND;TZID=Europe/Berlin:20251101T220000
DTSTAMP:20260421T115709
CREATED:20250627T171123Z
LAST-MODIFIED:20250627T171124Z
UID:1835-1762023600-1762034400@kunst-und-kruemel.com
SUMMARY:Live: Friedrich & Wiesenhütter
DESCRIPTION:Sie sind aus unserem Künstlerstamm kaum mehr wegzudenken\, schon beim Tippen dieser Zeilenschwirren Textfetzen wie „Das Leben ist schön…\, schön…\, schön!“ durch die Gehirnwindungen! Wirfreuen uns wahnsinnig\, dass die beiden Berliner Alltagspoeten wieder mit am Start sind.
URL:https://kunst-und-kruemel.com/event/live-friedrich-wiesenhuetter-4/
LOCATION:Cafe Kunst & Krümel\, Hönower Str. 65\, Berlin\, 12623\, Deutschland
CATEGORIES:Konzert
ATTACH;FMTTYPE=image/png:https://kunst-und-kruemel.com/wp-content/uploads/2024/08/FrieWie.png
ORGANIZER;CN="Cafe Kunst & Kr%C3%BCmel":MAILTO:info@kunst-und-kruemel.com
END:VEVENT
BEGIN:VEVENT
DTSTART;TZID=Europe/Berlin:20251107T190000
DTEND;TZID=Europe/Berlin:20251107T220000
DTSTAMP:20260421T115709
CREATED:20250627T170357Z
LAST-MODIFIED:20250627T170358Z
UID:1832-1762542000-1762552800@kunst-und-kruemel.com
SUMMARY:Live: Ben Sands (Achtung\, Freitag!)
DESCRIPTION:Ausnahmen bestätigen die Regeln und deshalb planen wir auch gern einmal ein Freitagskonzert…Ben Sands\, der mit der SANDS FAMILY seit Jahrzehnten weltweit große Erfolge feiert\, entführt auch indiesem Jahr wieder unser kleines Krümel mit seiner warmen\, wunderbaren Stimme musikalisch inseine irische Heimat. „WE ALL NEED A HUG“ lautet der Titel seines neuen Songbook\, wir lassen unssehr\, sehr gern von einem mit Sicherheit fantastischen Konzertabend umarmen…
URL:https://kunst-und-kruemel.com/event/live-ben-sands-achtung-freitag/
LOCATION:Cafe Kunst & Krümel\, Hönower Str. 65\, Berlin\, 12623\, Deutschland
CATEGORIES:Konzert
ATTACH;FMTTYPE=image/jpeg:https://kunst-und-kruemel.com/wp-content/uploads/2025/06/meta_eyJzcmNCdWNrZXQiOiJiemdsZmlsZXMifQ.jpg
ORGANIZER;CN="Cafe Kunst & Kr%C3%BCmel":MAILTO:info@kunst-und-kruemel.com
END:VEVENT
BEGIN:VEVENT
DTSTART;TZID=Europe/Berlin:20251122T190000
DTEND;TZID=Europe/Berlin:20251122T220000
DTSTAMP:20260421T115709
CREATED:20250627T170219Z
LAST-MODIFIED:20251029T152709Z
UID:1829-1763838000-1763848800@kunst-und-kruemel.com
SUMMARY:Live: Stephan Weiß und Tom Lehn
DESCRIPTION:Sie spielen „Das andere Konzert“\, mal laut\, mal leise\, ironisch oder melancholisch\, meistens wie amLagerfeuer und immer mit guter Laune und Überraschungsmomenten – Stephan\, der Liedermacher und Tom\, der Percussionist.
URL:https://kunst-und-kruemel.com/event/live-stephan-weiss-und-burkhardt-brauer/
LOCATION:Cafe Kunst & Krümel\, Hönower Str. 65\, Berlin\, 12623\, Deutschland
CATEGORIES:Konzert
ATTACH;FMTTYPE=image/jpeg:https://kunst-und-kruemel.com/wp-content/uploads/2025/06/IMG-20251029-WA0004.jpg
ORGANIZER;CN="Cafe Kunst & Kr%C3%BCmel":MAILTO:info@kunst-und-kruemel.com
END:VEVENT
END:VCALENDAR