BEGIN:VCALENDAR
VERSION:2.0
PRODID:-//Cafe Kunst &amp; Krümel - ECPv6.10.2//NONSGML v1.0//EN
CALSCALE:GREGORIAN
METHOD:PUBLISH
X-ORIGINAL-URL:https://kunst-und-kruemel.com
X-WR-CALDESC:Veranstaltungen für Cafe Kunst &amp; Krümel
REFRESH-INTERVAL;VALUE=DURATION:PT1H
X-Robots-Tag:noindex
X-PUBLISHED-TTL:PT1H
BEGIN:VTIMEZONE
TZID:Europe/Berlin
BEGIN:DAYLIGHT
TZOFFSETFROM:+0100
TZOFFSETTO:+0200
TZNAME:CEST
DTSTART:20250330T010000
END:DAYLIGHT
BEGIN:STANDARD
TZOFFSETFROM:+0200
TZOFFSETTO:+0100
TZNAME:CET
DTSTART:20251026T010000
END:STANDARD
END:VTIMEZONE
BEGIN:VEVENT
DTSTART;TZID=Europe/Berlin:20251206T190000
DTEND;TZID=Europe/Berlin:20251206T220000
DTSTAMP:20260419T231403
CREATED:20250627T170005Z
LAST-MODIFIED:20250627T170006Z
UID:1826-1765047600-1765058400@kunst-und-kruemel.com
SUMMARY:Live: Steinlandpiraten
DESCRIPTION:Manchmal sitzt sie bei unseren Konzerten im Krümelpublikum\, manchmal verschreibt sie sich denGoldenen Zwanzigern\, oft ordnert sie in der Alten Försterei und ganz oft verarbeitet sie das Leben inihren Songs – Patti\, die Piratenbraut! Mit ihrem Partner und musikalischen Klanggefährten\, demunvergleichlichen „Songmaker“ Karsten Schützler\, können die beiden als Steinlandpiraten auf 10Jahre Duo-Konzerterfahrung zurückblicken und seit 2021 sind sie ein-\, manchmal zweimal im Jahr mitverschiedenen Programmen unabdingbarer Teil des Krümelveranstaltungsplanes… Das Türchenunseres Adventkalenders gehört an diesem Samstagabend wieder den Piraten\, das ist schon mal klar– es ist schließlich Nikolaus!
URL:https://kunst-und-kruemel.com/event/live-steinlandpiraten-3/
LOCATION:Cafe Kunst & Krümel\, Hönower Str. 65\, Berlin\, 12623\, Deutschland
CATEGORIES:Konzert
ATTACH;FMTTYPE=image/jpeg:https://kunst-und-kruemel.com/wp-content/uploads/2025/06/JSK_8303-scaled.jpg
ORGANIZER;CN="Cafe Kunst & Kr%C3%BCmel":MAILTO:info@kunst-und-kruemel.com
END:VEVENT
BEGIN:VEVENT
DTSTART;TZID=Europe/Berlin:20251220T190000
DTEND;TZID=Europe/Berlin:20251220T220000
DTSTAMP:20260419T231403
CREATED:20250627T165705Z
LAST-MODIFIED:20250627T165706Z
UID:1824-1766257200-1766268000@kunst-und-kruemel.com
SUMMARY:Live: Simone Kotowski & Tina Powileit
DESCRIPTION:Ihren Konzerttermin mussten wir im April diesen Jahres leider absagen\, weil der guten Simone dieStimme plötzlich versagte – aber nun können wir unsere Ankündigung einfach wiederholen. Ein Duoaus zwei gestandenen Musikerinnen: Simone Kotowski (vocoal\, piano) und Tina Powileit (cajòn\, perc\,voc ). 2022 hat Simone ihr Debüt-Album SISTER produziert – mit eigenen Songs in Deutsch\, Englischund Covers von 80er Pop-Songs im Stil des Jazzpop\, Soul und Latin. Tina ist vielen noch von der BandMona Lise bekannt und natürlich als Drummerin von Gundermanns „Seilschaft“\, es wird mitSicherheit ein interessanter Abend\, ein bisschen Weihnachten wird auch dabei sein…
URL:https://kunst-und-kruemel.com/event/live-simone-kotowski-tina-powileit-2/
LOCATION:Cafe Kunst & Krümel\, Hönower Str. 65\, Berlin\, 12623\, Deutschland
CATEGORIES:Konzert
ATTACH;FMTTYPE=image/jpeg:https://kunst-und-kruemel.com/wp-content/uploads/2025/03/KotowskiPowileit-scaled.jpg
ORGANIZER;CN="Cafe Kunst & Kr%C3%BCmel":MAILTO:info@kunst-und-kruemel.com
END:VEVENT
END:VCALENDAR