BEGIN:VCALENDAR
VERSION:2.0
PRODID:-//Cafe Kunst &amp; Krümel - ECPv6.10.2//NONSGML v1.0//EN
CALSCALE:GREGORIAN
METHOD:PUBLISH
X-ORIGINAL-URL:https://kunst-und-kruemel.com
X-WR-CALDESC:Veranstaltungen für Cafe Kunst &amp; Krümel
REFRESH-INTERVAL;VALUE=DURATION:PT1H
X-Robots-Tag:noindex
X-PUBLISHED-TTL:PT1H
BEGIN:VTIMEZONE
TZID:Europe/Berlin
BEGIN:DAYLIGHT
TZOFFSETFROM:+0100
TZOFFSETTO:+0200
TZNAME:CEST
DTSTART:20260329T010000
END:DAYLIGHT
BEGIN:STANDARD
TZOFFSETFROM:+0200
TZOFFSETTO:+0100
TZNAME:CET
DTSTART:20261025T010000
END:STANDARD
END:VTIMEZONE
BEGIN:VEVENT
DTSTART;TZID=Europe/Berlin:20260102T080000
DTEND;TZID=Europe/Berlin:20260228T170000
DTSTAMP:20260419T211736
CREATED:20260128T174718Z
LAST-MODIFIED:20260128T174719Z
UID:2089-1767340800-1772298000@kunst-und-kruemel.com
SUMMARY:Ausstellung: Alexander König "Auszeit"
DESCRIPTION:
URL:https://kunst-und-kruemel.com/event/ausstellung-alexander-koenig-auszeit/
LOCATION:Cafe Kunst & Krümel\, Hönower Str. 65\, Berlin\, 12623\, Deutschland
CATEGORIES:Ausstellung
ATTACH;FMTTYPE=image/jpeg:https://kunst-und-kruemel.com/wp-content/uploads/2026/01/1000109195-scaled.jpg
ORGANIZER;CN="Cafe Kunst & Kr%C3%BCmel":MAILTO:info@kunst-und-kruemel.com
END:VEVENT
BEGIN:VEVENT
DTSTART;TZID=Europe/Berlin:20260117T190000
DTEND;TZID=Europe/Berlin:20260117T220000
DTSTAMP:20260419T211736
CREATED:20251124T164953Z
LAST-MODIFIED:20251124T165659Z
UID:1952-1768676400-1768687200@kunst-und-kruemel.com
SUMMARY:Kabarett: Gerald Wolf Satirischer Jahresrückblick  „Na det war wieda `n Jahr!“ 
DESCRIPTION:Ohne seinen Besuch zum Jahresauftakt würde unserem Krümel was fehlen\, deshalb freuen wir uns\, dass der großartige Kabarettist Gerald Wolf auch diesmal wieder mit einem Mix aus Stegreif\, Parodien und satirischen Songs unsere kleine Bühne betreten wird. In seinem feinen kabarettistischen Rückblick auf 2025 in der Tradition Dieter Hildebrandts erwarten uns Schlagzeilen wie diese (Auszug):             „Da ist Musike drin!“:                 Der große Friederich rockt Deutschland!„Zum Schießen!“:                      Wir werden kriegstüchtig!              „Hexenaustreibung geglückt!“   Kandidatin Brosius-Gersdorf!„Grandios!“:                               Hertha hält die zweite Liga! \n\n\n\nWir sind sehr gespannt…
URL:https://kunst-und-kruemel.com/event/kabarett-gerald-wolf-satirischer-jahresrueckblick-na-det-war-wieda-n-jahr/
LOCATION:Cafe Kunst & Krümel\, Hönower Str. 65\, Berlin\, 12623\, Deutschland
CATEGORIES:Kabarett
ATTACH;FMTTYPE=image/jpeg:https://kunst-und-kruemel.com/wp-content/uploads/2025/11/GeraldWolf-sJR2025_A3saxo-2-scaled.jpg
ORGANIZER;CN="Cafe Kunst & Kr%C3%BCmel":MAILTO:info@kunst-und-kruemel.com
END:VEVENT
BEGIN:VEVENT
DTSTART;TZID=Europe/Berlin:20260131T190000
DTEND;TZID=Europe/Berlin:20260131T220000
DTSTAMP:20260419T211736
CREATED:20251124T165100Z
LAST-MODIFIED:20251124T165624Z
UID:1954-1769886000-1769896800@kunst-und-kruemel.com
SUMMARY:Live: Berliner Fahrgemeinschaft Matthias Wiesenhütter und Till Paulmann 
DESCRIPTION:Laut KI wird „der Begriff Berliner Fahrgemeinschaft je nach Kontext unterschiedlich verwendet\, von der alltäglichen Nutzung eines Autos bis hin zu speziellen Hobbys und kulturellen Projekten“. Wir halten uns am besten an die Kultur und freuen uns auf eine erneute Mitfahrgelegenheit bei diesem akustischen Gitarrenprojekt um Matthias Wiesenhütter und Till Paulmann! Ihre grandiosen Eigenkompositionen sind mit den Adjektiven zeitlos\, virtuos\, verspielt und melodisch besetzt\, werden rein instrumental vorgetragen und versprechen einen zauberhaften Abend.   
URL:https://kunst-und-kruemel.com/event/live-berliner-fahrgemeinschaft-matthias-wiesenhuetter-und-till-paulmann/
LOCATION:Cafe Kunst & Krümel\, Hönower Str. 65\, Berlin\, 12623\, Deutschland
CATEGORIES:Konzert
ATTACH;FMTTYPE=image/jpeg:https://kunst-und-kruemel.com/wp-content/uploads/2025/11/BerlFahrgemeinschaft.jpg
ORGANIZER;CN="Cafe Kunst & Kr%C3%BCmel":MAILTO:info@kunst-und-kruemel.com
END:VEVENT
END:VCALENDAR