BEGIN:VCALENDAR
VERSION:2.0
PRODID:-//Cafe Kunst &amp; Krümel - ECPv6.10.2//NONSGML v1.0//EN
CALSCALE:GREGORIAN
METHOD:PUBLISH
X-WR-CALNAME:Cafe Kunst &amp; Krümel
X-ORIGINAL-URL:https://kunst-und-kruemel.com
X-WR-CALDESC:Veranstaltungen für Cafe Kunst &amp; Krümel
REFRESH-INTERVAL;VALUE=DURATION:PT1H
X-Robots-Tag:noindex
X-PUBLISHED-TTL:PT1H
BEGIN:VTIMEZONE
TZID:Europe/Berlin
BEGIN:DAYLIGHT
TZOFFSETFROM:+0100
TZOFFSETTO:+0200
TZNAME:CEST
DTSTART:20260329T010000
END:DAYLIGHT
BEGIN:STANDARD
TZOFFSETFROM:+0200
TZOFFSETTO:+0100
TZNAME:CET
DTSTART:20261025T010000
END:STANDARD
END:VTIMEZONE
BEGIN:VEVENT
DTSTART;TZID=Europe/Berlin:20260301T150000
DTEND;TZID=Europe/Berlin:20260430T170000
DTSTAMP:20260419T180806
CREATED:20260106T171320Z
LAST-MODIFIED:20260128T174527Z
UID:2059-1772377200-1777568400@kunst-und-kruemel.com
SUMMARY:Ausstellung: „Wir wissen nicht\, ob wir uns trennen können…“
DESCRIPTION:Bilder und Einiges mehr von André Kemnitz-Voigt und Patricia „Patti“ Heidrich \n\n\n\n \n\n\n\n1.3.2026 Vernissage 15-18 Uhr\, Platzreservierung erforderlich! \n\n\n\nBeide sind Freunde\, manchmal auch Komplizen\, sind Künstlerseelen.Was Malen und Zeichnen angeht\, sind beide Spätgebärende.Im März und April 2026 stellen sie – jeweils auch erstmalig – gemeinsam Bilder undSkulpturen aus. \n\n\n\nAndré Kemnitz-Voigt(Jahrgang 1961\, Kühlungsborn)Die Geheimnisse seiner Bilder liegen im Detail. Sie laden ein zum Eintauchen\, zumImmer-Näher-Herangehen. Freie Anordnung ist gebettet in feste Struktur. Soentstehen plastische Gewebe\, Systeme aus grobgewebten Schleiern – Bilder\, indenen Mensch eine Reise machen möchte.Patricia „Patti“ Heidrich(Jahrgang 1972\, Berlin)Viele ihrer Arbeiten sind durch eine starke Farbigkeit geprägt – und einer sehreigenen immer wiederkehrende Struktur. Diese folgt keinem Plan\, sondern einerIntention:Der Welt etwas Schönes hinzufügen. \n\n\n\nER ist immer traurig\, wenn die Arbeit an einem Bild sich dem Ende neigt.SIE spürt Erschöpfung (und meist Genugtuung)\, wenn eine Arbeit abgeschlossen ist.
URL:https://kunst-und-kruemel.com/event/ausstellung-wir-wissen-nicht-ob-wir-uns-trennen-koennen/
LOCATION:Cafe Kunst & Krümel\, Hönower Str. 65\, Berlin\, 12623\, Deutschland
CATEGORIES:Ausstellung
ATTACH;FMTTYPE=image/jpeg:https://kunst-und-kruemel.com/wp-content/uploads/2026/01/Layout-Ausstellung-Patti-AKV-scaled.jpg
ORGANIZER;CN="Cafe Kunst & Kr%C3%BCmel":MAILTO:info@kunst-und-kruemel.com
END:VEVENT
BEGIN:VEVENT
DTSTART;TZID=Europe/Berlin:20260307T190000
DTEND;TZID=Europe/Berlin:20260307T220000
DTSTAMP:20260419T180806
CREATED:20251124T165326Z
LAST-MODIFIED:20260128T174429Z
UID:1960-1772910000-1772920800@kunst-und-kruemel.com
SUMMARY:Live: Rob Fleming
DESCRIPTION:Er sagt über sich\, dass es ein sehr guter Tag ist\, wenn er eine gute Zeile\, einen guten Text oder eine Melodie geschrieben hat. Und weil die Abende\, an denen er live spielt\, für ihn bisher immer sehr gute Tage geworden sind und auch immer zu tollen Begegnungen und Gesprächen führen\, spiele er so gerne live. Bei uns im Krümel darf er das sehr gern! Der Singer / Songwriter aus Berlin kommt mit klugen Texten und eingängigen Melodien und bedient sich dabei der ganzen Bandbreite von melancholisch bis energiegeladen. Wir sind uns sicher\, dass es ein sehr guter Abend wird…
URL:https://kunst-und-kruemel.com/event/live-rob-fleming-2/
LOCATION:Cafe Kunst & Krümel\, Hönower Str. 65\, Berlin\, 12623\, Deutschland
CATEGORIES:Konzert
ATTACH;FMTTYPE=image/jpeg:https://kunst-und-kruemel.com/wp-content/uploads/2025/11/RobFleming-scaled.jpg
ORGANIZER;CN="Cafe Kunst & Kr%C3%BCmel":MAILTO:info@kunst-und-kruemel.com
END:VEVENT
BEGIN:VEVENT
DTSTART;TZID=Europe/Berlin:20260321T190000
DTEND;TZID=Europe/Berlin:20260321T220000
DTSTAMP:20260419T180806
CREATED:20251124T165405Z
LAST-MODIFIED:20251124T165500Z
UID:1962-1774119600-1774130400@kunst-und-kruemel.com
SUMMARY:Live: Bastian Bandt
DESCRIPTION:Zärtlich tragikomische Wuchtmelancholie in Liedern zur Stahlsaitenweltraumgitarre \n\n\n\nDer geniale Liederdichter aus der Uckermark ist fast jedes Wochenende unterwegs von Bühne zu Bühne\, von Publikum zu Publikum. Er kann scheinbar nicht anders\, weil er soviel Musik in sich trägt\, so viele Geschichten und Abenteuer\, die raus in die Welt müssen und das ist fantastisch! Auch für uns packt Bastian Bandt wieder seine Gitarre und seine DB-Karte und kommt ins Krümel\, um uns virtuos und mit viel Galgenhumor seine Sicht der Dinge rüberzubringen. Er singt und spielt mit jeder Zelle seiner Haut\, mit jeder Gehirnwindung und Haarwurzel – er findet die Geschichten in seinem Leben\, seine Lieder sind immer ein Stück Spiegel seiner selbst… Seine Poesie\, seine wortgewaltige Sprache\, von einem wunderbaren Gitarrenspiel umhüllt\, wer Bastian Bandt einmal erlebt hat\, kommt immer wieder.
URL:https://kunst-und-kruemel.com/event/live-bastian-bandt-4/
LOCATION:Cafe Kunst & Krümel\, Hönower Str. 65\, Berlin\, 12623\, Deutschland
CATEGORIES:Konzert
ATTACH;FMTTYPE=image/jpeg:https://kunst-und-kruemel.com/wp-content/uploads/2025/11/Bandt.jpeg
ORGANIZER;CN="Cafe Kunst & Kr%C3%BCmel":MAILTO:info@kunst-und-kruemel.com
END:VEVENT
END:VCALENDAR